BEGIN:VCALENDAR
VERSION:2.0
CALSCALE:GREGORIAN
PRODID:-//Diputació de Barcelona//DibaCMS//EN
BEGIN:VEVENT
UID:5220
DTSTAMP:20260424T165038
DTSTART:20260427T230000
DTEND:20260428T050000
SUMMARY:Tractament nocturn contra l’assecada del xiprer
LOCATION:Els treballs es faran en diferents punts del municipi 
METHOD:PUBLISH
X-WR-CALNAME:vilanovac@vilanovadelcami.cat
X-WR-TIMEZONE:Europe/Madrid
DESCRIPTION:
URI:https://www.vilanovadelcami.cat/actualitat/agenda/tractament-nocturn-contra-lassecada-del-xiprer.html
CLASS:PUBLIC
END:VEVENT
END:VCALENDAR
