BEGIN:VCALENDAR
VERSION:2.0
CALSCALE:GREGORIAN
PRODID:-//Diputació de Barcelona//DibaCMS//EN
BEGIN:VEVENT
UID:5219
DTSTAMP:20260425T175653
DTSTART:20260529T000000
DTEND:20260529T000000
SUMMARY:Festa de l'Esport 2026
LOCATION:C/ Verge de Núria, 1 08788 Vilanova del Camí
METHOD:PUBLISH
X-WR-CALNAME:vilanovac@vilanovadelcami.cat
X-WR-TIMEZONE:Europe/Madrid
DESCRIPTION:Ajuntament de Vilanova del Camí - Esports

URI:https://www.vilanovadelcami.cat/actualitat/agenda/festa-de-lesport-2026.html
CLASS:PUBLIC
END:VEVENT
END:VCALENDAR
