BEGIN:VCALENDAR
VERSION:2.0
CALSCALE:GREGORIAN
PRODID:-//Diputació de Barcelona//DibaCMS//EN
BEGIN:VEVENT
UID:5218
DTSTAMP:20260424T164924
DTSTART:20260429T173000
DTEND:20260429T173000
SUMMARY:Taller de la recerca de l'habitatge de lloguer
LOCATION:Camí del Cementiri 08788 Vilanova del Camí
METHOD:PUBLISH
X-WR-CALNAME:vilanovac@vilanovadelcami.cat
X-WR-TIMEZONE:Europe/Madrid
DESCRIPTION:Espai Jove Can Muscons

URI:https://www.vilanovadelcami.cat/actualitat/agenda/taller-de-la-recerca-de-lhabitatge-de-lloguer.html
CLASS:PUBLIC
END:VEVENT
END:VCALENDAR
