BEGIN:VCALENDAR
VERSION:2.0
CALSCALE:GREGORIAN
PRODID:-//Diputació de Barcelona//DibaCMS//EN
BEGIN:VEVENT
UID:5216
DTSTAMP:20260424T175752
DTSTART:20260501T070000
DTEND:20260501T170000
SUMMARY:27è aniversari de la Colla Excursionista de Vilanova del Camí
LOCATION:c/ Verge de Montserrat, 28 - 2n pis (Restaurant Nou) 08788 Vilanova del Camí
METHOD:PUBLISH
X-WR-CALNAME:vilanovac@vilanovadelcami.cat
X-WR-TIMEZONE:Europe/Madrid
DESCRIPTION:Colla Excursionista de Vilanova del Camí

URI:https://www.vilanovadelcami.cat/actualitat/agenda/27e-aniversari-de-la-colla-excursionista-de-vilanova-del-cami.html
CLASS:PUBLIC
END:VEVENT
END:VCALENDAR
