BEGIN:VCALENDAR
VERSION:2.0
CALSCALE:GREGORIAN
PRODID:-//Diputació de Barcelona//DibaCMS//EN
BEGIN:VEVENT
UID:5215
DTSTAMP:20260422T164948
DTSTART:20260423T000000
DTEND:20260423T000000
SUMMARY:Paradeta de roses i punts de llibres per lluitar contra el càncer
LOCATION:Plaça Joan Vich i Adzet 08788 Vilanova del Camí
METHOD:PUBLISH
X-WR-CALNAME:vilanovac@vilanovadelcami.cat
X-WR-TIMEZONE:Europe/Madrid
DESCRIPTION:
URI:https://www.vilanovadelcami.cat/actualitat/agenda/paradeta-de-roses-i-punts-de-llibres-per-lluitar-contra-el-cancer.html
CLASS:PUBLIC
END:VEVENT
END:VCALENDAR
