BEGIN:VCALENDAR
VERSION:2.0
CALSCALE:GREGORIAN
PRODID:-//Diputació de Barcelona//DibaCMS//EN
BEGIN:VEVENT
UID:5214
DTSTAMP:20260421T161818
DTSTART:20260425T180000
DTEND:20260425T180000
SUMMARY:Recital de poesia 2026
LOCATION:c/ de Nostra Senyora del Roser, 24 baixos 08788 Vilanova del Camí
METHOD:PUBLISH
X-WR-CALNAME:vilanovac@vilanovadelcami.cat
X-WR-TIMEZONE:Europe/Madrid
DESCRIPTION:Unión Cultural Extremeña Anoia

URI:https://www.vilanovadelcami.cat/actualitat/agenda/recital-de-poesia-2026.html
CLASS:PUBLIC
END:VEVENT
END:VCALENDAR
