BEGIN:VCALENDAR
VERSION:2.0
CALSCALE:GREGORIAN
PRODID:-//Diputació de Barcelona//DibaCMS//EN
BEGIN:VEVENT
UID:5211
DTSTAMP:20260421T141744
DTSTART:20260516T110000
DTEND:20260516T120000
SUMMARY:Lliurament de premis del Concurs de Plats Típics del Món 2026
LOCATION:Sant Josep, 36 08788 Vilanova del Camí
METHOD:PUBLISH
X-WR-CALNAME:vilanovac@vilanovadelcami.cat
X-WR-TIMEZONE:Europe/Madrid
DESCRIPTION:Regidoria de la Gent Gran de Vilanova del Camí 

URI:https://www.vilanovadelcami.cat/actualitat/agenda/lliurament-de-premis-del-concurs-de-plats-tipics-del-mon-2026.html
CLASS:PUBLIC
END:VEVENT
END:VCALENDAR
