BEGIN:VCALENDAR
VERSION:2.0
CALSCALE:GREGORIAN
PRODID:-//Diputació de Barcelona//DibaCMS//EN
BEGIN:VEVENT
UID:5210
DTSTAMP:20260425T161424
DTSTART:20260505T000000
DTEND:20260505T000000
SUMMARY:Exposició "Joan Salvat Papasseit. L'irradiador de l'avanguarda"
LOCATION:C/ Verge de Núria, 1 (Can Papasseit) 08788 Vilanova del Camí
METHOD:PUBLISH
X-WR-CALNAME:vilanovac@vilanovadelcami.cat
X-WR-TIMEZONE:Europe/Madrid
DESCRIPTION:Biblioteca de Vilanova del Camí

URI:https://www.vilanovadelcami.cat/actualitat/agenda/exposicio-joan-salvat-papasseit-lirradiador-de-lavanguarda.html
CLASS:PUBLIC
END:VEVENT
END:VCALENDAR
