BEGIN:VCALENDAR
VERSION:2.0
CALSCALE:GREGORIAN
PRODID:-//Diputació de Barcelona//DibaCMS//EN
BEGIN:VEVENT
UID:5209
DTSTAMP:20260425T160709
DTSTART:20260525T180000
DTEND:20260525T180000
SUMMARY:Taller familiar Observació segura del sol: eclipsi 2026
LOCATION:C/ Verge de Núria, 1 (Can Papasseit) 08788 Vilanova del Camí
METHOD:PUBLISH
X-WR-CALNAME:vilanovac@vilanovadelcami.cat
X-WR-TIMEZONE:Europe/Madrid
DESCRIPTION:Biblioteca de Vilanova del Camí

URI:https://www.vilanovadelcami.cat/actualitat/agenda/taller-familiar-observacio-segura-del-sol-eclipsi-2026.html
CLASS:PUBLIC
END:VEVENT
END:VCALENDAR
