BEGIN:VCALENDAR
VERSION:2.0
CALSCALE:GREGORIAN
PRODID:-//Diputació de Barcelona//DibaCMS//EN
BEGIN:VEVENT
UID:5208
DTSTAMP:20260425T161105
DTSTART:20260520T183000
DTEND:20260520T183000
SUMMARY:Hora del conte + taller Tupinamburga, la remeiera
LOCATION:C/ Verge de Núria, 1 (Can Papasseit) 08788 Vilanova del Camí
METHOD:PUBLISH
X-WR-CALNAME:vilanovac@vilanovadelcami.cat
X-WR-TIMEZONE:Europe/Madrid
DESCRIPTION:Biblioteca de Vilanova del Camí

URI:https://www.vilanovadelcami.cat/actualitat/agenda/hora-del-conte--taller-tupinamburga-la-remeiera.html
CLASS:PUBLIC
END:VEVENT
END:VCALENDAR
