BEGIN:VCALENDAR
VERSION:2.0
CALSCALE:GREGORIAN
PRODID:-//Diputació de Barcelona//DibaCMS//EN
BEGIN:VEVENT
UID:5207
DTSTAMP:20260425T161240
DTSTART:20260513T180000
DTEND:20260513T180000
SUMMARY:Taller Do it yourselfs robots
LOCATION:C/ Verge de Núria, 1 (Can Papasseit) 08788 Vilanova del Camí
METHOD:PUBLISH
X-WR-CALNAME:vilanovac@vilanovadelcami.cat
X-WR-TIMEZONE:Europe/Madrid
DESCRIPTION:Biblioteca de Vilanova del Camí

URI:https://www.vilanovadelcami.cat/actualitat/agenda/taller-do-it-yourselfs-robots.html
CLASS:PUBLIC
END:VEVENT
END:VCALENDAR
