BEGIN:VCALENDAR
VERSION:2.0
CALSCALE:GREGORIAN
PRODID:-//Diputació de Barcelona//DibaCMS//EN
BEGIN:VEVENT
UID:5204
DTSTAMP:20260421T142615
DTSTART:20260429T183000
DTEND:20260429T183000
SUMMARY:Taller de manualitat sobre Antoni Gaudí
LOCATION:C/ Verge de Núria, 1 (Can Papasseit) 08788 Vilanova del Camí
METHOD:PUBLISH
X-WR-CALNAME:vilanovac@vilanovadelcami.cat
X-WR-TIMEZONE:Europe/Madrid
DESCRIPTION:Biblioteca de Vilanova del Camí

URI:https://www.vilanovadelcami.cat/actualitat/agenda/taller-de-manualitat-sobre-antoni-gaudi.html
CLASS:PUBLIC
END:VEVENT
END:VCALENDAR
