BEGIN:VCALENDAR
VERSION:2.0
CALSCALE:GREGORIAN
PRODID:-//Diputació de Barcelona//DibaCMS//EN
BEGIN:VEVENT
UID:5203
DTSTAMP:20260419T230352
DTSTART:20260516T100000
DTEND:20260516T120000
SUMMARY:Observació de flora i fauna a la Via Blava
LOCATION:Via Blava  al seu pas per Vilanova del Camí 
METHOD:PUBLISH
X-WR-CALNAME:vilanovac@vilanovadelcami.cat
X-WR-TIMEZONE:Europe/Madrid
DESCRIPTION:Diputació de Barcelona

URI:https://www.vilanovadelcami.cat/actualitat/agenda/observacio-de-flora-i-fauna-a-la-via-blava.html
CLASS:PUBLIC
END:VEVENT
END:VCALENDAR
