BEGIN:VCALENDAR
VERSION:2.0
CALSCALE:GREGORIAN
PRODID:-//Diputació de Barcelona//DibaCMS//EN
BEGIN:VEVENT
UID:5200
DTSTAMP:20260420T002654
DTSTART:20260428T093000
DTEND:20260428T133000
SUMMARY:Taller "Entrevista curricular versus entrevista per competències" 
LOCATION:c/ dels Impressors, 12 08788 Vilanova del Camí
METHOD:PUBLISH
X-WR-CALNAME:vilanovac@vilanovadelcami.cat
X-WR-TIMEZONE:Europe/Madrid
DESCRIPTION:Ajuntament de Vilanova del Camí - Promoció Econòmica

URI:https://www.vilanovadelcami.cat/actualitat/agenda/taller-entrevista-curricular-versus-entrevista-per-competencies-.html
CLASS:PUBLIC
END:VEVENT
END:VCALENDAR
