BEGIN:VCALENDAR
VERSION:2.0
CALSCALE:GREGORIAN
PRODID:-//Diputació de Barcelona//DibaCMS//EN
BEGIN:VEVENT
UID:5160
DTSTAMP:20260422T122003
DTSTART:20260612T153000
DTEND:20260612T193000
SUMMARY:Club de lectura: "Avi et trauré d'aquí" de Joan Pinyol
LOCATION:C/ Verge de Núria, 1 (Can Papasseit) 08788 Vilanova del Camí
METHOD:PUBLISH
X-WR-CALNAME:vilanovac@vilanovadelcami.cat
X-WR-TIMEZONE:Europe/Madrid
DESCRIPTION:8M Dia Internacional de les Dones 2026

URI:https://www.vilanovadelcami.cat/actualitat/agenda/club-de-lectura-avi-et-traure-daqui-de-joan-pinyol.html
CLASS:PUBLIC
END:VEVENT
END:VCALENDAR
