BEGIN:VCALENDAR
VERSION:2.0
CALSCALE:GREGORIAN
PRODID:-//Diputació de Barcelona//DibaCMS//EN
BEGIN:VEVENT
UID:5136
DTSTAMP:20260422T121802
DTSTART:20260307T180000
DTEND:20260307T180000
SUMMARY:Debat sobre el Dia Internacional de la Dona
LOCATION:c/ de Nostra Senyora del Roser, 24 baixos 08788 Vilanova del Camí
METHOD:PUBLISH
X-WR-CALNAME:vilanovac@vilanovadelcami.cat
X-WR-TIMEZONE:Europe/Madrid
DESCRIPTION:Unión Cultural Extremeña Anoia

URI:https://www.vilanovadelcami.cat/actualitat/agenda/debat-sobre-el-dia-internacional-de-la-dona.html
CLASS:PUBLIC
END:VEVENT
END:VCALENDAR
