BEGIN:VCALENDAR
VERSION:2.0
CALSCALE:GREGORIAN
PRODID:-//Diputació de Barcelona//DibaCMS//EN
BEGIN:VEVENT
UID:5134
DTSTAMP:20260421T095513
DTSTART:20260319T093000
DTEND:20260319T130000
SUMMARY:Oficina mòbil de la Policia Nacional a Vilanova del Camí
LOCATION:Plaça Joan Vich i Adzet 08788 Vilanova del Camí
METHOD:PUBLISH
X-WR-CALNAME:vilanovac@vilanovadelcami.cat
X-WR-TIMEZONE:Europe/Madrid
DESCRIPTION:
URI:https://www.vilanovadelcami.cat/actualitat/agenda/5134-oficina-mobil-de-la-policia-nacional-a-vilanova-del-cami.html
CLASS:PUBLIC
END:VEVENT
END:VCALENDAR
