BEGIN:VCALENDAR
VERSION:2.0
CALSCALE:GREGORIAN
PRODID:-//Diputació de Barcelona//DibaCMS//EN
BEGIN:VEVENT
UID:5130
DTSTAMP:20260422T121318
DTSTART:20260426T100000
DTEND:20260426T180000
SUMMARY:Romeria Virgen de los Hitos
LOCATION:Lloc: Parc Fluvial de Vilanova del Camí 
METHOD:PUBLISH
X-WR-CALNAME:vilanovac@vilanovadelcami.cat
X-WR-TIMEZONE:Europe/Madrid
DESCRIPTION:Unión Cultural Extremeña Anoia

URI:https://www.vilanovadelcami.cat/actualitat/agenda/romeria-virgen-de-los-hitos.html
CLASS:PUBLIC
END:VEVENT
END:VCALENDAR
