BEGIN:VCALENDAR
VERSION:2.0
CALSCALE:GREGORIAN
PRODID:-//Diputació de Barcelona//DibaCMS//EN
BEGIN:VEVENT
UID:5128
DTSTAMP:20260421T111633
DTSTART:20260301T100000
DTEND:20260301T170000
SUMMARY:Dia d'Andalusia
LOCATION:Felip II, 34-36 08788 Vilanova del Camí
METHOD:PUBLISH
X-WR-CALNAME:vilanovac@vilanovadelcami.cat
X-WR-TIMEZONE:Europe/Madrid
DESCRIPTION:Casa Andalucia de l'Anoia

URI:https://www.vilanovadelcami.cat/actualitat/agenda/dia-dandalusia.html
CLASS:PUBLIC
END:VEVENT
END:VCALENDAR
