BEGIN:VCALENDAR
VERSION:2.0
CALSCALE:GREGORIAN
PRODID:-//Diputació de Barcelona//DibaCMS//EN
BEGIN:VEVENT
UID:5114
DTSTAMP:20260426T020003
DTSTART:20260325T180000
DTEND:20260325T180000
SUMMARY:Club de lectura infantil - “El tigre bondadós de Francesc Bes"
LOCATION:C/ Verge de Núria, 1 (Can Papasseit) 08788 Vilanova del Camí
METHOD:PUBLISH
X-WR-CALNAME:vilanovac@vilanovadelcami.cat
X-WR-TIMEZONE:Europe/Madrid
DESCRIPTION:Biblioteca de Vilanova del Camí

URI:https://www.vilanovadelcami.cat/actualitat/agenda/club-de-lectura-infantil-el-tigre-bondados-de-francesc-bes.html
CLASS:PUBLIC
END:VEVENT
END:VCALENDAR
