BEGIN:VCALENDAR
VERSION:2.0
CALSCALE:GREGORIAN
PRODID:-//Diputació de Barcelona//DibaCMS//EN
BEGIN:VEVENT
UID:5108
DTSTAMP:20260426T032735
DTSTART:20260218T103000
DTEND:20260218T120000
SUMMARY:Grup de Suport Emocional i Ajuda Mútua
LOCATION:Plaça dels Horts, 1  08788 Vilanova del Camí
METHOD:PUBLISH
X-WR-CALNAME:vilanovac@vilanovadelcami.cat
X-WR-TIMEZONE:Europe/Madrid
DESCRIPTION:Ajuntament de Vilanova del Camí - Àrea de Serveis a les Persones

URI:https://www.vilanovadelcami.cat/actualitat/agenda/grup-de-suport-emocional-i-ajuda-mutua.html
CLASS:PUBLIC
END:VEVENT
END:VCALENDAR
