BEGIN:VCALENDAR
VERSION:2.0
CALSCALE:GREGORIAN
PRODID:-//Diputació de Barcelona//DibaCMS//EN
BEGIN:VEVENT
UID:5055
DTSTAMP:20260426T030718
DTSTART:20260125T113000
DTEND:20260125T113000
SUMMARY:Sonic 3: la película - CineClub Vilanova
LOCATION:C/ Verge de Núria, 1 08788 Vilanova del Camí
METHOD:PUBLISH
X-WR-CALNAME:vilanovac@vilanovadelcami.cat
X-WR-TIMEZONE:Europe/Madrid
DESCRIPTION:CineClub Vilanova

URI:https://www.vilanovadelcami.cat/actualitat/agenda/sonic-3-la-pelicula-cineclub-vilanova.html
CLASS:PUBLIC
END:VEVENT
END:VCALENDAR
