BEGIN:VCALENDAR
VERSION:2.0
CALSCALE:GREGORIAN
PRODID:-//Diputació de Barcelona//DibaCMS//EN
BEGIN:VEVENT
UID:5045
DTSTAMP:20260426T015903
DTSTART:20260208T120000
DTEND:20260208T120000
SUMMARY:Teatre familiar: El Carreró de les Bruixes de PocaCosa Teatre
LOCATION:C/ Verge de Núria, 1 08788 Vilanova del Camí
METHOD:PUBLISH
X-WR-CALNAME:vilanovac@vilanovadelcami.cat
X-WR-TIMEZONE:Europe/Madrid
DESCRIPTION:Xarxa Vilanova del Camí

URI:https://www.vilanovadelcami.cat/actualitat/agenda/teatre-familiar-el-carrero-de-les-bruixes-de-pocacosa-teatre.html
CLASS:PUBLIC
END:VEVENT
END:VCALENDAR
